BEGIN:VCALENDAR
VERSION:2.0
PRODID:-//Heavens Gate - ECPv6.14.2//NONSGML v1.0//EN
CALSCALE:GREGORIAN
METHOD:PUBLISH
X-ORIGINAL-URL:https://rock-heavensgate.de
X-WR-CALDESC:Veranstaltungen für Heavens Gate
REFRESH-INTERVAL;VALUE=DURATION:PT1H
X-Robots-Tag:noindex
X-PUBLISHED-TTL:PT1H
BEGIN:VTIMEZONE
TZID:Europe/Berlin
BEGIN:DAYLIGHT
TZOFFSETFROM:+0100
TZOFFSETTO:+0200
TZNAME:CEST
DTSTART:20230326T010000
END:DAYLIGHT
BEGIN:STANDARD
TZOFFSETFROM:+0200
TZOFFSETTO:+0100
TZNAME:CET
DTSTART:20231029T010000
END:STANDARD
BEGIN:DAYLIGHT
TZOFFSETFROM:+0100
TZOFFSETTO:+0200
TZNAME:CEST
DTSTART:20240331T010000
END:DAYLIGHT
BEGIN:STANDARD
TZOFFSETFROM:+0200
TZOFFSETTO:+0100
TZNAME:CET
DTSTART:20241027T010000
END:STANDARD
BEGIN:DAYLIGHT
TZOFFSETFROM:+0100
TZOFFSETTO:+0200
TZNAME:CEST
DTSTART:20250330T010000
END:DAYLIGHT
BEGIN:STANDARD
TZOFFSETFROM:+0200
TZOFFSETTO:+0100
TZNAME:CET
DTSTART:20251026T010000
END:STANDARD
BEGIN:DAYLIGHT
TZOFFSETFROM:+0100
TZOFFSETTO:+0200
TZNAME:CEST
DTSTART:20260329T010000
END:DAYLIGHT
BEGIN:STANDARD
TZOFFSETFROM:+0200
TZOFFSETTO:+0100
TZNAME:CET
DTSTART:20261025T010000
END:STANDARD
END:VTIMEZONE
BEGIN:VEVENT
DTSTART;TZID=Europe/Berlin:20260411T210000
DTEND;TZID=Europe/Berlin:20260411T210000
DTSTAMP:20260424T103716
CREATED:20260127T195949Z
LAST-MODIFIED:20260127T195949Z
UID:1461-1775941200-1775941200@rock-heavensgate.de
SUMMARY:Classic-Rock-Night - TSV Kirchheim
DESCRIPTION:
URL:https://rock-heavensgate.de/event/classic-rock-night-tsv-kirchheim/
LOCATION:TSV-Halle Kirchheim\, Jahnstraße 2\, Kirchheim\, 87757\, Germany
ATTACH;FMTTYPE=image/jpeg:https://rock-heavensgate.de/wp-content/uploads/2026/01/IMG-20260122-WA0000.jpg
END:VEVENT
BEGIN:VEVENT
DTSTART;TZID=Europe/Berlin:20260307T210000
DTEND;TZID=Europe/Berlin:20260307T210000
DTSTAMP:20260424T103716
CREATED:20260127T194215Z
LAST-MODIFIED:20260127T202120Z
UID:1457-1772917200-1772917200@rock-heavensgate.de
SUMMARY:Roots **Live-Rock-Location**
DESCRIPTION:
URL:https://rock-heavensgate.de/event/roots-live-rock-location-2/
LOCATION:Roots\, Erwin-Bosch-Ring 5\, Krumback\, 86381\, Germany
ATTACH;FMTTYPE=image/jpeg:https://rock-heavensgate.de/wp-content/uploads/2026/01/IMG-20250921-WA0001-1.jpg
END:VEVENT
BEGIN:VEVENT
DTSTART;TZID=Europe/Berlin:20251223T000000
DTEND;TZID=Europe/Berlin:20260119T000000
DTSTAMP:20260424T103716
CREATED:20251223T223608Z
LAST-MODIFIED:20251225T181828Z
UID:1442-1766448000-1768780800@rock-heavensgate.de
SUMMARY:Merry Christmas & Happy New Year
DESCRIPTION:https://rock-heavensgate.de/wp-content/uploads/2025/12/VID-20251221-WA0002.mp4\nEin riesiges Dankeschön an alle Fans\, Freunde und Unterstützer – für eure Treue\, eure Begeisterung und all die tollen Momente bei unseren Konzerten in diesem Jahr!❤️ \nWir wünschen euch frohe\, besinnliche Weihnachten und einen großartigen Start in ein glückliches\, gesundes und rockiges Jahr 2026 🎸 \nNeue Gig-Termine werden im Januar 2026 bekanntgegeben.  \n Bis bald🤘 \nHeaven´s Gate
URL:https://rock-heavensgate.de/event/1442/
END:VEVENT
BEGIN:VEVENT
DTSTART;TZID=Europe/Berlin:20251220T200000
DTEND;TZID=Europe/Berlin:20251220T200000
DTSTAMP:20260424T103716
CREATED:20250902T184923Z
LAST-MODIFIED:20250907T154534Z
UID:1430-1766260800-1766260800@rock-heavensgate.de
SUMMARY:Christmas Acoustic Rock - Fiddler´s Green Irish Pub
DESCRIPTION:https://rock-heavensgate.de/wp-content/uploads/2025/09/VID-20221218-WA0019.mp4
URL:https://rock-heavensgate.de/event/christmas-acoustic-rock-fiddlers-green-irish-pub/
LOCATION:Pfaffenhofen\, Volkertshofener Straße 7a\, Pfaffenhofen an der Roth\, 89284\, Deutschland
ATTACH;FMTTYPE=image/webp:https://rock-heavensgate.de/wp-content/uploads/2025/09/rock-n-roll-santa-guitar-sunglasses-space-text-341443059.webp
END:VEVENT
BEGIN:VEVENT
DTSTART;TZID=Europe/Berlin:20251122T210000
DTEND;TZID=Europe/Berlin:20251122T210000
DTSTAMP:20260424T103716
CREATED:20250902T174946Z
LAST-MODIFIED:20250902T190627Z
UID:1427-1763845200-1763845200@rock-heavensgate.de
SUMMARY:Herbst Rock im Turm
DESCRIPTION:
URL:https://rock-heavensgate.de/event/herbst-rock-im-turm/
LOCATION:GOIN Obergünzburg\, Kaufbeurer Straße 34\, Obergünzburg\, 87634\, Deutschland
ATTACH;FMTTYPE=image/jpeg:https://rock-heavensgate.de/wp-content/uploads/2025/09/Marian-IMG_4351-scaled.jpg
END:VEVENT
BEGIN:VEVENT
DTSTART;TZID=Europe/Berlin:20250920T200000
DTEND;TZID=Europe/Berlin:20250920T200000
DTSTAMP:20260424T103716
CREATED:20250902T172344Z
LAST-MODIFIED:20250902T172516Z
UID:1421-1758398400-1758398400@rock-heavensgate.de
SUMMARY:Rock Nights Vol.05
DESCRIPTION:
URL:https://rock-heavensgate.de/event/rock-live-nights-vol-05/
LOCATION:Black Devils MC Central\, Uracher Str. 87\, Dettingen an der Erms\, 72581\, Germany
ATTACH;FMTTYPE=image/jpeg:https://rock-heavensgate.de/wp-content/uploads/2025/09/Black-Devils-MC-IMG-20250831-WA0005.jpg-.jpg
END:VEVENT
BEGIN:VEVENT
DTSTART;TZID=Europe/Berlin:20250809T213000
DTEND;TZID=Europe/Berlin:20250809T213000
DTSTAMP:20260424T103716
CREATED:20250710T144903Z
LAST-MODIFIED:20250715T185433Z
UID:1410-1754775000-1754775000@rock-heavensgate.de
SUMMARY:MC Neufnachtal - Motorradtreffen
DESCRIPTION:
URL:https://rock-heavensgate.de/event/mc-neufnachtal-motorradtreffen/
LOCATION:MC Neufnachtal Motorradtreffen am Clubhaus\, Mindelheimer Straße 7\, Mittelneufnach\, 86868\, Germany
ATTACH;FMTTYPE=image/jpeg:https://rock-heavensgate.de/wp-content/uploads/2024/06/IMG-20250709-WA0000.jpg
END:VEVENT
BEGIN:VEVENT
DTSTART;TZID=Europe/Berlin:20250802T213000
DTEND;TZID=Europe/Berlin:20250802T213000
DTSTAMP:20260424T103716
CREATED:20250703T105816Z
LAST-MODIFIED:20250703T110206Z
UID:1396-1754170200-1754170200@rock-heavensgate.de
SUMMARY:40. Motorradtreffen MC Black Hats Kellmünz
DESCRIPTION:
URL:https://rock-heavensgate.de/event/40-motorradtreffen-mc-black-hats-kellmuenz/
LOCATION:40. Motorradtreffen MC Black Hats Kellmünz am Baggersee\, Steinweg\, Kellmünz a.d.Iller\, Bundesstaat wählen:\, 89293\, Germany
ATTACH;FMTTYPE=image/avif:https://rock-heavensgate.de/wp-content/uploads/2025/07/1749548201787.avif
END:VEVENT
BEGIN:VEVENT
DTSTART;TZID=Europe/Berlin:20250725T210000
DTEND;TZID=Europe/Berlin:20250725T210000
DTSTAMP:20260424T103716
CREATED:20250624T201414Z
LAST-MODIFIED:20250722T193701Z
UID:1368-1753477200-1753477200@rock-heavensgate.de
SUMMARY:Fischertags-Vorabend  -  Rockparty in der Tanne
DESCRIPTION:  \nhttps://rock-heavensgate.de/wp-content/uploads/2025/06/VID-20230722-WA0039.mp4\nhttps://rock-heavensgate.de/wp-content/uploads/2025/06/VID-20230722-WA0038-1.mp4
URL:https://rock-heavensgate.de/event/fischertags-vorabend-rockparty-in-der-tanne/
LOCATION:Fischertags-Vorabend Tanne\, Kempter Straße 8\, Memmingen\, 87700\, Germany
ATTACH;FMTTYPE=image/jpeg:https://rock-heavensgate.de/wp-content/uploads/2025/06/IMG_4441-scaled.jpg
END:VEVENT
BEGIN:VEVENT
DTSTART;TZID=Europe/Berlin:20250705T200000
DTEND;TZID=Europe/Berlin:20250705T200000
DTSTAMP:20260424T103716
CREATED:20250624T194942Z
LAST-MODIFIED:20250624T195952Z
UID:1354-1751745600-1751745600@rock-heavensgate.de
SUMMARY:Open Air Rock-Abend - Schützenverein Traunried e.V.
DESCRIPTION:  \n \n \n 
URL:https://rock-heavensgate.de/event/open-air-rock-abend-schuetzenverein-traunried-e-v/
LOCATION:Open Air am Haus der Dorfgemeinschaft (*** bei schlechtem Wetter im Saal ***!)\, Traunried 11\, Ettringen\, Ettringen\, 86833
ATTACH;FMTTYPE=image/jpeg:https://rock-heavensgate.de/wp-content/uploads/2025/06/IMG-20250613-WA0000.jpg
END:VEVENT
BEGIN:VEVENT
DTSTART;TZID=Europe/Berlin:20250628T200000
DTEND;TZID=Europe/Berlin:20250628T200000
DTSTAMP:20260424T103716
CREATED:20250508T132205Z
LAST-MODIFIED:20250624T215818Z
UID:1341-1751140800-1751140800@rock-heavensgate.de
SUMMARY:35 Jahre Motorradfreunde Attenhausen-Bayersried
DESCRIPTION:
URL:https://rock-heavensgate.de/event/35-jahre-motorradfreunde-attenhausen-beyersried/
LOCATION:35 Jahre Motorradfreunde Attenhausen-Bayersried\, Industriestraße 31\, Münsterhausen\, Schwabmünchen\, 86505
ATTACH;FMTTYPE=image/jpeg:https://rock-heavensgate.de/wp-content/uploads/2025/05/Motorradfreunde-Attenhausen-Plakat-1.jpg
END:VEVENT
BEGIN:VEVENT
DTSTART;TZID=Europe/Berlin:20250621T200000
DTEND;TZID=Europe/Berlin:20250621T200000
DTSTAMP:20260424T103716
CREATED:20241229T213018Z
LAST-MODIFIED:20241229T213137Z
UID:1318-1750536000-1750536000@rock-heavensgate.de
SUMMARY:Privat-Party Wolfgang (Lautrach)
DESCRIPTION:
URL:https://rock-heavensgate.de/event/privat-party-wolfgang-lautrach/
ATTACH;FMTTYPE=image/webp:https://rock-heavensgate.de/wp-content/uploads/2024/12/acoustic-rock.webp
END:VEVENT
BEGIN:VEVENT
DTSTART;TZID=Europe/Berlin:20250531T210000
DTEND;TZID=Europe/Berlin:20250531T210000
DTSTAMP:20260424T103716
CREATED:20241229T210239Z
LAST-MODIFIED:20250526T204324Z
UID:1314-1748725200-1748725200@rock-heavensgate.de
SUMMARY:Sommerparty - MC Firebirds Ingelfingen
DESCRIPTION:
URL:https://rock-heavensgate.de/event/sommerparty-mc-firebirds-ingelfingen/
LOCATION:MC Firebirds Belsenberg\, Weldingsfelden am See\, 74653\, Deutschland
ATTACH;FMTTYPE=image/jpeg:https://rock-heavensgate.de/wp-content/uploads/2024/12/IMG-20250526-WA0001.jpg
END:VEVENT
BEGIN:VEVENT
DTSTART;TZID=Europe/Berlin:20250503T210000
DTEND;TZID=Europe/Berlin:20250503T210000
DTSTAMP:20260424T103716
CREATED:20250327T155342Z
LAST-MODIFIED:20250328T200959Z
UID:1330-1746306000-1746306000@rock-heavensgate.de
SUMMARY:Private Party - Michael (Engishausen)
DESCRIPTION:
URL:https://rock-heavensgate.de/event/privatparty/
ATTACH;FMTTYPE=image/jpeg:https://rock-heavensgate.de/wp-content/uploads/2025/03/IMG_4501-scaled.jpg
END:VEVENT
BEGIN:VEVENT
DTSTART;TZID=Europe/Berlin:20250322T210000
DTEND;TZID=Europe/Berlin:20250322T210000
DTSTAMP:20260424T103716
CREATED:20241229T193340Z
LAST-MODIFIED:20241229T195245Z
UID:1305-1742677200-1742677200@rock-heavensgate.de
SUMMARY:"Tour-Start 2025" - Roots Live-Rock-Location
DESCRIPTION:https://rock-heavensgate.de/wp-content/uploads/2024/12/VID-20230722-WA00372.mp4
URL:https://rock-heavensgate.de/event/tour-start-2025-roots-live-rock-location/
LOCATION:ROOTS Live-Rock-Location\, Erwin-Bosch-Ring 5\, Krumbach\, 86381\, Deutschland
END:VEVENT
BEGIN:VEVENT
DTSTART;TZID=Europe/Berlin:20241228T200000
DTEND;TZID=Europe/Berlin:20241228T200000
DTSTAMP:20260424T103716
CREATED:20241028T220542Z
LAST-MODIFIED:20241030T193950Z
UID:1280-1735416000-1735416000@rock-heavensgate.de
SUMMARY:PRIVAT PARTY - Haldenwang
DESCRIPTION:
URL:https://rock-heavensgate.de/event/privat-party-haldenwang/
ATTACH;FMTTYPE=image/jpeg:https://rock-heavensgate.de/wp-content/uploads/2024/08/csm_Rockparty_A3_a03ba871d9.jpg
END:VEVENT
BEGIN:VEVENT
DTSTART;TZID=Europe/Berlin:20241207T203000
DTEND;TZID=Europe/Berlin:20241207T203000
DTSTAMP:20260424T103716
CREATED:20241028T214240Z
LAST-MODIFIED:20241030T193736Z
UID:1269-1733603400-1733603400@rock-heavensgate.de
SUMMARY:Acoustic Rock im Fiddler´s Green
DESCRIPTION:
URL:https://rock-heavensgate.de/event/acoustic-rock-im-fiddlers-green/
LOCATION:Acoustic Rock im Fiddler´s Green\, Volkertshofener Straße 7a\, Pfaffenhofen an der Roth\, 89284\, Deutschland
ATTACH;FMTTYPE=image/jpeg:https://rock-heavensgate.de/wp-content/uploads/2023/06/20190223_231141-scaled.jpg
END:VEVENT
BEGIN:VEVENT
DTSTART;TZID=Europe/Berlin:20241130T210000
DTEND;TZID=Europe/Berlin:20241130T210000
DTSTAMP:20260424T103716
CREATED:20240830T151953Z
LAST-MODIFIED:20241118T220928Z
UID:1261-1733000400-1733000400@rock-heavensgate.de
SUMMARY:Roadhouse Bar´n Music MC Trappers
DESCRIPTION:
URL:https://rock-heavensgate.de/event/roadhouse-barn-music-mc-trappers/
LOCATION:Trappers Roadhouse Bar’n’Music\, Mückenthal 4\, Lautrach\, Bayern\, 87764\, Deutschland
ATTACH;FMTTYPE=image/jpeg:https://rock-heavensgate.de/wp-content/uploads/2024/08/IMG-20241118-WA0001-1.jpg
END:VEVENT
BEGIN:VEVENT
DTSTART;TZID=Europe/Berlin:20241019T210000
DTEND;TZID=Europe/Berlin:20241019T210000
DTSTAMP:20260424T103716
CREATED:20240830T150218Z
LAST-MODIFIED:20240830T152909Z
UID:1255-1729371600-1729371600@rock-heavensgate.de
SUMMARY:Herbst-Rock im GOIN
DESCRIPTION:
URL:https://rock-heavensgate.de/event/herbst-rock-im-goin/
LOCATION:Club GoIn\, Kaufbeurer Straße 34\, Obergünzburg\, 87634\, Deutschland
ATTACH;FMTTYPE=image/png:https://rock-heavensgate.de/wp-content/uploads/2024/07/Unbenannt-1.png
END:VEVENT
BEGIN:VEVENT
DTSTART;TZID=Europe/Berlin:20241002T210000
DTEND;TZID=Europe/Berlin:20241002T210000
DTSTAMP:20260424T103716
CREATED:20240830T144908Z
LAST-MODIFIED:20240902T192901Z
UID:1253-1727902800-1727902800@rock-heavensgate.de
SUMMARY:Privatparty - geschlossene Gesellschaft
DESCRIPTION:
URL:https://rock-heavensgate.de/event/privatparty-geschlossene-gesellschaft/
ATTACH;FMTTYPE=image/jpeg:https://rock-heavensgate.de/wp-content/uploads/2024/08/csm_Rockparty_A3_a03ba871d9.jpg
END:VEVENT
BEGIN:VEVENT
DTSTART;TZID=Europe/Berlin:20240810T190000
DTEND;TZID=Europe/Berlin:20240810T190000
DTSTAMP:20260424T103716
CREATED:20240721T212924Z
LAST-MODIFIED:20240721T214925Z
UID:1238-1723316400-1723316400@rock-heavensgate.de
SUMMARY:Rock auf d´Burg (Burgruine Alttrauch) OPEN-AIR
DESCRIPTION:
URL:https://rock-heavensgate.de/event/rock-auf-dburg-burgruine-altrauch-open-air/
LOCATION:Rock auf d´Burg  (Burgruine Alttrauch) OPEN AIR\, Alttrauchburg 1 Burgruine Alttrauchburg\, Weitnau\, 87480
ATTACH;FMTTYPE=image/jpeg:https://rock-heavensgate.de/wp-content/uploads/2024/07/veranstaltungen-im-oberallgaeu-rock-auf-dburg-auf-der-burgruine-alttrauchburg-55289.jpg
END:VEVENT
BEGIN:VEVENT
DTSTART;TZID=Europe/Berlin:20240803T210000
DTEND;TZID=Europe/Berlin:20240803T210000
DTSTAMP:20260424T103716
CREATED:20240720T150404Z
LAST-MODIFIED:20240721T214426Z
UID:1232-1722718800-1722718800@rock-heavensgate.de
SUMMARY:MC Black Hats - 39. Motorradtreffen
DESCRIPTION:
URL:https://rock-heavensgate.de/event/mc-black-hats-39-motorradtreffen/
END:VEVENT
BEGIN:VEVENT
DTSTART;TZID=Europe/Berlin:20240720T210000
DTEND;TZID=Europe/Berlin:20240720T210000
DTSTAMP:20260424T103716
CREATED:20240619T225606Z
LAST-MODIFIED:20240626T192833Z
UID:1220-1721509200-1721509200@rock-heavensgate.de
SUMMARY:MC Neufnachtal - 35 YEARS PARTY
DESCRIPTION:
URL:https://rock-heavensgate.de/event/mc-neufnachtal-35-years-party/
LOCATION:MC Neufnachtal – 35 YEARS PARTY\, Mindelheimer Straße 7\, Mittelneufnach\, 86868\, Deutschland
ATTACH;FMTTYPE=image/jpeg:https://rock-heavensgate.de/wp-content/uploads/2024/06/423223281_682515977430320_8555776017551605504_n.jpg
END:VEVENT
BEGIN:VEVENT
DTSTART;TZID=Europe/Berlin:20240719T210000
DTEND;TZID=Europe/Berlin:20240719T210000
DTSTAMP:20260424T103716
CREATED:20240510T081601Z
LAST-MODIFIED:20240510T082836Z
UID:1194-1721422800-1721422800@rock-heavensgate.de
SUMMARY:Fischertagsvorabend Memmingen - Rock in der Tanne
DESCRIPTION:https://rock-heavensgate.de/wp-content/uploads/2024/05/VID-20190813-WA0012.mp4
URL:https://rock-heavensgate.de/event/fischertagsvorabend-memmingen-rock-in-der-tanne/
LOCATION:Fischertagsvorabend – Rock in der Tanne\, Kempter Straße 8\, Memmingen\, 87700\, Deutschland
END:VEVENT
BEGIN:VEVENT
DTSTART;TZID=Europe/Berlin:20240713T210000
DTEND;TZID=Europe/Berlin:20240713T210000
DTSTAMP:20260424T103716
CREATED:20240510T075630Z
LAST-MODIFIED:20240510T092418Z
UID:1187-1720904400-1720904400@rock-heavensgate.de
SUMMARY:Bikerparty MC Wolfmen - Ettringen
DESCRIPTION:https://rock-heavensgate.de/wp-content/uploads/2024/05/VID-20221211-WA0039.mp4
URL:https://rock-heavensgate.de/event/bikerparty-mc-wolfman-ettringen/
LOCATION:Bikerparty MC Wolfmen\, Kapellenstraße 46\, Ettringen\, 86833\, Deutschland
END:VEVENT
BEGIN:VEVENT
DTSTART;TZID=Europe/Berlin:20240511T210000
DTEND;TZID=Europe/Berlin:20240511T210000
DTSTAMP:20260424T103716
CREATED:20240302T142329Z
LAST-MODIFIED:20240302T142329Z
UID:1177-1715461200-1715461200@rock-heavensgate.de
SUMMARY:Sommerparty 50 Jahre MC Firebirds
DESCRIPTION:
URL:https://rock-heavensgate.de/event/sommerparty-50-jahre-mc-firebirds/
LOCATION:MC Firebirds Belsenberg\, Weldingsfelden am See\, 74653\, Deutschland
END:VEVENT
BEGIN:VEVENT
DTSTART;TZID=Europe/Berlin:20240302T210000
DTEND;TZID=Europe/Berlin:20240302T210000
DTSTAMP:20260424T103716
CREATED:20240118T230809Z
LAST-MODIFIED:20240118T231345Z
UID:1156-1709413200-1709413200@rock-heavensgate.de
SUMMARY:ROOTS Live- Rock-Location
DESCRIPTION:
URL:https://rock-heavensgate.de/event/roots-live-rock-location/
LOCATION:ROOTS Live-Rock-Location\, Erwin-Bosch-Ring 5\, Krumbach\, 86381\, Deutschland
END:VEVENT
BEGIN:VEVENT
DTSTART;TZID=Europe/Berlin:20231216T200000
DTEND;TZID=Europe/Berlin:20231216T200000
DTSTAMP:20260424T103716
CREATED:20231020T172224Z
LAST-MODIFIED:20231028T200703Z
UID:1117-1702756800-1702756800@rock-heavensgate.de
SUMMARY:Christmas - Acoustic Rock
DESCRIPTION: 
URL:https://rock-heavensgate.de/event/christmas-acoustic-rock/
LOCATION:Acoustic Rock im Fiddler´s Green\, Volkertshofener Straße 7a\, Pfaffenhofen an der Roth\, 89284\, Deutschland
END:VEVENT
BEGIN:VEVENT
DTSTART;TZID=Europe/Berlin:20231021T210000
DTEND;TZID=Europe/Berlin:20231021T210000
DTSTAMP:20260424T103716
CREATED:20230811T163858Z
LAST-MODIFIED:20230811T163858Z
UID:1089-1697922000-1697922000@rock-heavensgate.de
SUMMARY:Herbst-Rockparty im GOIN - Obergünzburg
DESCRIPTION:
URL:https://rock-heavensgate.de/event/herbst-rockparty-im-goin-oberguenzburg/
LOCATION:GOIN Obergünzburg\, Kaufbeurer Straße 34\, Obergünzburg\, 87634\, Deutschland
END:VEVENT
BEGIN:VEVENT
DTSTART;VALUE=DATE:20230912
DTEND;VALUE=DATE:20230913
DTSTAMP:20260424T103716
CREATED:20230811T161929Z
LAST-MODIFIED:20230813T182018Z
UID:1076-1694476800-1694563199@rock-heavensgate.de
SUMMARY:SUMMER BREAK
DESCRIPTION:Liebe Rock-Fans\, \nWir verabschieden uns in die Sommerpause  und freuen uns darauf wieder mit Euch beim nächsten Gig im Herbst am 21.10.2023 im Goin in Obergünzburg abzurocken! \nVielen Dank dafür\, dass Ihr unsere Leidenschaft zum Classic Rock teilt! \nHappy Summer & take care\, \nEure Marian\, Andi\, Robert\, Harry\, Tam & Robby \n \n \n  \n \n  \n 
URL:https://rock-heavensgate.de/event/summer-break/
END:VEVENT
END:VCALENDAR